BEGIN:VCALENDAR
VERSION:2.0
PRODID:-//Easington Colliery Parish Council//Meeting Calendar//EN
CALSCALE:GREGORIAN
METHOD:PUBLISH
BEGIN:VEVENT
UID:70488-20250513@easingtoncollieryparishcouncil.gov.uk
DTSTAMP:20260421T101451Z
DTSTART;VALUE=DATE:20250513
DTEND;VALUE=DATE:20250514
SUMMARY:Annual Meeting -13 May 2025
DESCRIPTION:Annual Parish Meeting\nView details: https://easingtoncollieryparishcouncil.gov.uk/meetings/annual-meeting-13-may-2025/
URL:https://easingtoncollieryparishcouncil.gov.uk/meetings/annual-meeting-13-may-2025/
END:VEVENT
END:VCALENDAR
