BEGIN:VCALENDAR
VERSION:2.0
PRODID:-//Easington Colliery Parish Council//Meeting Calendar//EN
CALSCALE:GREGORIAN
METHOD:PUBLISH
BEGIN:VEVENT
UID:70537-20250715@easingtoncollieryparishcouncil.gov.uk
DTSTAMP:20260421T135123Z
DTSTART;VALUE=DATE:20250715
DTEND;VALUE=DATE:20250716
SUMMARY:Council meeting 15 July 2025
DESCRIPTION:Full Council Meeting\nView details: https://easingtoncollieryparishcouncil.gov.uk/meetings/full-council-15-july-2025/
URL:https://easingtoncollieryparishcouncil.gov.uk/meetings/full-council-15-july-2025/
END:VEVENT
END:VCALENDAR
