BEGIN:VCALENDAR
VERSION:2.0
PRODID:-//Easington Colliery Parish Council//Meeting Calendar//EN
CALSCALE:GREGORIAN
METHOD:PUBLISH
BEGIN:VEVENT
UID:70621-20251117@easingtoncollieryparishcouncil.gov.uk
DTSTAMP:20260421T124045Z
DTSTART;VALUE=DATE:20251117
DTEND;VALUE=DATE:20251118
SUMMARY:Council Meeting &#8211\\; 17 November 2025
DESCRIPTION:Full Council Meeting\nView details: https://easingtoncollieryparishcouncil.gov.uk/meetings/council-meeting-17-november-2025/
URL:https://easingtoncollieryparishcouncil.gov.uk/meetings/council-meeting-17-november-2025/
END:VEVENT
END:VCALENDAR
